BEGIN:VCALENDAR
VERSION:2.0
PRODID:-//Shawntelle Madison - ECPv6.15.17//NONSGML v1.0//EN
CALSCALE:GREGORIAN
METHOD:PUBLISH
X-WR-CALNAME:Shawntelle Madison
X-ORIGINAL-URL:https://www.shawntellemadison.com
X-WR-CALDESC:Events for Shawntelle Madison
REFRESH-INTERVAL;VALUE=DURATION:PT1H
X-Robots-Tag:noindex
X-PUBLISHED-TTL:PT1H
BEGIN:VTIMEZONE
TZID:America/Chicago
BEGIN:DAYLIGHT
TZOFFSETFROM:-0600
TZOFFSETTO:-0500
TZNAME:CDT
DTSTART:20240310T080000
END:DAYLIGHT
BEGIN:STANDARD
TZOFFSETFROM:-0500
TZOFFSETTO:-0600
TZNAME:CST
DTSTART:20241103T070000
END:STANDARD
BEGIN:DAYLIGHT
TZOFFSETFROM:-0600
TZOFFSETTO:-0500
TZNAME:CDT
DTSTART:20250309T080000
END:DAYLIGHT
BEGIN:STANDARD
TZOFFSETFROM:-0500
TZOFFSETTO:-0600
TZNAME:CST
DTSTART:20251102T070000
END:STANDARD
BEGIN:DAYLIGHT
TZOFFSETFROM:-0600
TZOFFSETTO:-0500
TZNAME:CDT
DTSTART:20260308T080000
END:DAYLIGHT
BEGIN:STANDARD
TZOFFSETFROM:-0500
TZOFFSETTO:-0600
TZNAME:CST
DTSTART:20261101T070000
END:STANDARD
END:VTIMEZONE
BEGIN:VEVENT
DTSTART;VALUE=DATE:20251010
DTEND;VALUE=DATE:20251012
DTSTAMP:20260423T193843
CREATED:20250630T210616Z
LAST-MODIFIED:20250826T192328Z
UID:8212-1760054400-1760227199@www.shawntellemadison.com
SUMMARY:Heartland Book Festival 2025
DESCRIPTION:Join Shawntelle Madison at the Heartland Book Festival in Kansas City\, MO. \nPanel: Oct. 11\, 11:15 a.m. – 12:15 p.m.\, Central Library Helzberg Auditorium \nBook signing: Oct. 11\, 12:15 – 12:30 p.m.\, Central Library Helzberg Auditorium Lobby
URL:https://www.shawntellemadison.com/event/heartland-book-festival-2025/
CATEGORIES:Book Festival,Booksigning
ATTACH;FMTTYPE=image/png:https://www.shawntellemadison.com/wp-content/uploads/2025/06/Heartland_logo_fullcolor_horiz.png
END:VEVENT
END:VCALENDAR