BEGIN:VCALENDAR
VERSION:2.0
PRODID:-//Shawntelle Madison - ECPv6.15.17//NONSGML v1.0//EN
CALSCALE:GREGORIAN
METHOD:PUBLISH
X-ORIGINAL-URL:https://www.shawntellemadison.com
X-WR-CALDESC:Events for Shawntelle Madison
REFRESH-INTERVAL;VALUE=DURATION:PT1H
X-Robots-Tag:noindex
X-PUBLISHED-TTL:PT1H
BEGIN:VTIMEZONE
TZID:America/Chicago
BEGIN:DAYLIGHT
TZOFFSETFROM:-0600
TZOFFSETTO:-0500
TZNAME:CDT
DTSTART:20240310T080000
END:DAYLIGHT
BEGIN:STANDARD
TZOFFSETFROM:-0500
TZOFFSETTO:-0600
TZNAME:CST
DTSTART:20241103T070000
END:STANDARD
BEGIN:DAYLIGHT
TZOFFSETFROM:-0600
TZOFFSETTO:-0500
TZNAME:CDT
DTSTART:20250309T080000
END:DAYLIGHT
BEGIN:STANDARD
TZOFFSETFROM:-0500
TZOFFSETTO:-0600
TZNAME:CST
DTSTART:20251102T070000
END:STANDARD
BEGIN:DAYLIGHT
TZOFFSETFROM:-0600
TZOFFSETTO:-0500
TZNAME:CDT
DTSTART:20260308T080000
END:DAYLIGHT
BEGIN:STANDARD
TZOFFSETFROM:-0500
TZOFFSETTO:-0600
TZNAME:CST
DTSTART:20261101T070000
END:STANDARD
END:VTIMEZONE
BEGIN:VEVENT
DTSTART;VALUE=DATE:20250531
DTEND;VALUE=DATE:20250601
DTSTAMP:20260424T033651
CREATED:20250320T002157Z
LAST-MODIFIED:20250515T220301Z
UID:8198-1748649600-1748735999@www.shawntellemadison.com
SUMMARY:Greater Pittsburgh Festival of Books 2025
DESCRIPTION:Where In Time?: Sci Fi\, Fantasy\, and Horror\nRoom: North Wing Music Room\, 2nd Floor | Moderator: Charlotte Johnson | 3:15 PM – 4:15 PM \nAfter the presentation\, attendees are welcome to purchase a book and/or get their book signed by the author in the Research & Information room on the 2nd floor of the library. \nPre-registration is extremely helpful for planning purposes\, but is not required. Pre-registered attendees will get priority seating in the event of limited seating. Walk-ins are welcome if capacity allows. \nDescription\nGo on a journey with authors Shawntelle Madison and Desideria Mesa as they discuss writing fiction with fantastical elements. Take a dive into the past with these engaging releases. \n 
URL:https://www.shawntellemadison.com/event/greater-pittsburgh-festival-of-books-2025/
CATEGORIES:Book Festival
END:VEVENT
END:VCALENDAR