BEGIN:VCALENDAR
VERSION:2.0
PRODID:-//Shawntelle Madison - ECPv6.15.17//NONSGML v1.0//EN
CALSCALE:GREGORIAN
METHOD:PUBLISH
X-ORIGINAL-URL:https://www.shawntellemadison.com
X-WR-CALDESC:Events for Shawntelle Madison
REFRESH-INTERVAL;VALUE=DURATION:PT1H
X-Robots-Tag:noindex
X-PUBLISHED-TTL:PT1H
BEGIN:VTIMEZONE
TZID:America/Chicago
BEGIN:DAYLIGHT
TZOFFSETFROM:-0600
TZOFFSETTO:-0500
TZNAME:CDT
DTSTART:20230312T080000
END:DAYLIGHT
BEGIN:STANDARD
TZOFFSETFROM:-0500
TZOFFSETTO:-0600
TZNAME:CST
DTSTART:20231105T070000
END:STANDARD
BEGIN:DAYLIGHT
TZOFFSETFROM:-0600
TZOFFSETTO:-0500
TZNAME:CDT
DTSTART:20240310T080000
END:DAYLIGHT
BEGIN:STANDARD
TZOFFSETFROM:-0500
TZOFFSETTO:-0600
TZNAME:CST
DTSTART:20241103T070000
END:STANDARD
BEGIN:DAYLIGHT
TZOFFSETFROM:-0600
TZOFFSETTO:-0500
TZNAME:CDT
DTSTART:20250309T080000
END:DAYLIGHT
BEGIN:STANDARD
TZOFFSETFROM:-0500
TZOFFSETTO:-0600
TZNAME:CST
DTSTART:20251102T070000
END:STANDARD
END:VTIMEZONE
BEGIN:VEVENT
DTSTART;TZID=America/Chicago:20241118T190000
DTEND;TZID=America/Chicago:20241118T200000
DTSTAMP:20260424T121912
CREATED:20241030T140716Z
LAST-MODIFIED:20241030T140716Z
UID:8112-1731956400-1731960000@www.shawntellemadison.com
SUMMARY:Third Monday Book Club - Fallen Fruit
DESCRIPTION:Please join Shawntelle at Main Street Books in Saint Charles\, MO on November 18th for a book club discussion for THE FALLEN FRUIT. \nThe Third Monday Book Club has existed in some form or another since at least 1994. They have around 18 members and discuss many different types of books. This club meets on the 3rd Monday of the month at 7pm.
URL:https://www.shawntellemadison.com/event/third-monday-book-club-fallen-fruit/
LOCATION:Main Street Books\, 307 S. Main Street\, St. Charles\, MO\, 63301\, United States
END:VEVENT
END:VCALENDAR