BEGIN:VCALENDAR
VERSION:2.0
PRODID:-//Shawntelle Madison - ECPv6.15.17//NONSGML v1.0//EN
CALSCALE:GREGORIAN
METHOD:PUBLISH
X-ORIGINAL-URL:https://www.shawntellemadison.com
X-WR-CALDESC:Events for Shawntelle Madison
REFRESH-INTERVAL;VALUE=DURATION:PT1H
X-Robots-Tag:noindex
X-PUBLISHED-TTL:PT1H
BEGIN:VTIMEZONE
TZID:America/Chicago
BEGIN:DAYLIGHT
TZOFFSETFROM:-0600
TZOFFSETTO:-0500
TZNAME:CDT
DTSTART:20230312T080000
END:DAYLIGHT
BEGIN:STANDARD
TZOFFSETFROM:-0500
TZOFFSETTO:-0600
TZNAME:CST
DTSTART:20231105T070000
END:STANDARD
BEGIN:DAYLIGHT
TZOFFSETFROM:-0600
TZOFFSETTO:-0500
TZNAME:CDT
DTSTART:20240310T080000
END:DAYLIGHT
BEGIN:STANDARD
TZOFFSETFROM:-0500
TZOFFSETTO:-0600
TZNAME:CST
DTSTART:20241103T070000
END:STANDARD
BEGIN:DAYLIGHT
TZOFFSETFROM:-0600
TZOFFSETTO:-0500
TZNAME:CDT
DTSTART:20250309T080000
END:DAYLIGHT
BEGIN:STANDARD
TZOFFSETFROM:-0500
TZOFFSETTO:-0600
TZNAME:CST
DTSTART:20251102T070000
END:STANDARD
END:VTIMEZONE
BEGIN:VEVENT
DTSTART;TZID=America/Chicago:20241029T183000
DTEND;TZID=America/Chicago:20241029T203000
DTSTAMP:20260423T152851
CREATED:20240719T234217Z
LAST-MODIFIED:20240920T203528Z
UID:7899-1730226600-1730233800@www.shawntellemadison.com
SUMMARY:Lit Lovers' Night Out
DESCRIPTION:Join us at Doc’s on the Fox in Waterford on Tuesday\, October 29 for this very special panel discussion with three literary fiction authors: Shawntelle Madison\, Kimberly Brock and Caroline Woods! Our authors will be traveling from three different states for this event! Doc’s will once again be creating some themed cocktails just for this special evening. Our authors will share about their most recent novels\, answer questions and sign books. Tickets are $40 and include ONE HARDCOVER BOOK by one of our guest authors (your choice) and one cocktail (or mocktail)! Tickets now available while they last. Limited to 50 participants. \n*IMPORTANT*\nWhen you place your order\, PLEASE INDICATE IN THE NOTES SECTION WHICH BOOK YOU WOULD LIKE INCLUDED WITH YOUR TICKET. PRE-PAYMENT IS REQUIRED for this event.  Extra copies of all three books (plus some of the authors’ previous titles) will be available at the event if you wish to purchase additional books to be signed (while supplies last) or you may reserve copies separately if you would like to be certain you receive a copy. ANY BOOKS NOT PICKED UP BY THE DAY OF THE EVENT WILL BE BROUGHT TO THE EVENT AND YOU CAN PICK THEM UP THERE. \nPLEASE NOTE: WE DO EXPECT THIS EVENT TO SELL OUT. ORDER YOUR TICKET NOW.\n \n 
URL:https://www.shawntellemadison.com/event/lit-lovers-night-out/
LOCATION:Doc’s on the Fox\, 232 N Milwaukee St\, Waterford\, 53185\, United States
CATEGORIES:Booksigning,The Fallen Fruit Tour
END:VEVENT
BEGIN:VEVENT
DTSTART;VALUE=DATE:20241026
DTEND;VALUE=DATE:20241028
DTSTAMP:20260423T152851
CREATED:20240719T182035Z
LAST-MODIFIED:20240920T170905Z
UID:7895-1729900800-1730073599@www.shawntellemadison.com
SUMMARY:Southern Festival of Books 2024
DESCRIPTION:Be sure to save the date for the Southern Book Festival in Nashville\, Tennessee. Come see me and all the other amazing authors  on October 26-27th! \nHere are my panels. I will be signing THE FALLEN FRUIT right after each panel. Hope to see you there! \nShawntelle’s Class with Porch Writer’s Collective\nKick off your Southern Festival of Books weekend with The Porch on Friday\, where you’ll have a unique opportunity to learn from celebrated authors as they pass through Nashville before the festival officially begins! Stick around for the rest of the day to take more writing classes with Ann Powers\, Darnell Arnoult\, and Justin Taylor. \nElevate the emotional impact of your writing by mastering how to unpack scenes at the sentence level. In this class\, New York Times bestselling author Shawntelle Madison will guide you through the delicate balance of building tension\, heightening conflict\, and evoking deep emotional responses. Learn when to “zoom in the camera” for richly detailed moments and when to pull back\, letting the story breathe with minimal description. Through pre- and post-edit breakdowns of a published romance chapter\, you’ll discover powerful strategies for making each scene resonate\, whether in romance\, thriller\, horror\, or women’s fiction. You’ll leave with practical tools\, including a handout\, to refine your own work and keep readers emotionally invested from beginning to end. Perfect for romance writers\, but applicable to any genre where emotion is key to a compelling story. \nFriday\, October 25th from 9AM – 10:30AM\nTennessee State Museum\, Smart Classroom\, 1st Floor\n$51/Members\n$60/Non-Members \nLearn more and register here. \nPanel with Leslye Penelope and Shawntelle Madison\nSaturday\, October 26th from 4:00 PM – 5:00 PM \nTennessee State Library and Archives\, Caney Fork Room\, 1001 Rep. John Lewis Way N\, Nashville\, TN 37219 \n 
URL:https://www.shawntellemadison.com/event/southern-festival-of-books-2024/
LOCATION:Southern Festival of Books\, 615 Main St\, Nashville\, TN\, 37206\, United States
CATEGORIES:Book Festival,Booksigning,The Fallen Fruit Tour
END:VEVENT
BEGIN:VEVENT
DTSTART;TZID=America/Chicago:20240918T190000
DTEND;TZID=America/Chicago:20240918T200000
DTSTAMP:20260423T152851
CREATED:20240814T152342Z
LAST-MODIFIED:20240814T152342Z
UID:7930-1726686000-1726689600@www.shawntellemadison.com
SUMMARY:Left Bank Books Signing
DESCRIPTION:Join us as we welcome bestselling St. Louis author Shawntelle Madison to discuss the highly anticipated sweeping multi-generational epic The Fallen Fruit. With high praise from numerous bestselling authors and book reviews\, we are thrilled to celebrate her new book. \n“A mesmerizing tale of a family bound by an extraordinary curse–an uncontrollable ability to fall backwards in time. Spanning generations\, their saga weaves a rich tapestry of American history\, from the Revolutionary War to the brink of the Civil Rights Movement in the 1960s. I loved this book. I wish I could go back in time to read it again for the first time.” — Jamie Ford\, New York Times bestselling author of The Many Daughters of Afong Moy \nMadison will personalize and sign copies after the presentation! Personalized and signed copies will be available to be mailed anywhere in the country. For personalized copies\, please order before noon on September 18th.
URL:https://www.shawntellemadison.com/event/left-bank-books-signing/
LOCATION:Left Bank Books\, 399 N. EUCLID AVE\, St. Louis\, MO\, 63108\, United States
CATEGORIES:Booksigning,The Fallen Fruit Tour
ATTACH;FMTTYPE=image/png:https://www.shawntellemadison.com/wp-content/uploads/2024/08/LBB-logo-sticker-die-cut_1.png
END:VEVENT
BEGIN:VEVENT
DTSTART;TZID=America/Chicago:20240916T190000
DTEND;TZID=America/Chicago:20240916T203000
DTSTAMP:20260423T152851
CREATED:20240719T175807Z
LAST-MODIFIED:20240725T225719Z
UID:7885-1726513200-1726518600@www.shawntellemadison.com
SUMMARY:Magers and Quinn Booksigning
DESCRIPTION:Join Shawntelle Madison at Magers and Quinn to celebrate the launch of her historical fiction debut\, The Fallen Fruit\, in-store at Magers and Quinn. She will be in conversation with author Megan Giddings. The event is free\, but registration is required.
URL:https://www.shawntellemadison.com/event/magers-and-quinn-booksigning/
LOCATION:Magers and Quinn Bookstore\, 3038 Hennepin Ave\, Minneapolis\, MN\, 55408\, United States
CATEGORIES:Booksigning,The Fallen Fruit Tour
ATTACH;FMTTYPE=image/png:https://www.shawntellemadison.com/wp-content/uploads/2024/07/magers-and-quinn.png
END:VEVENT
BEGIN:VEVENT
DTSTART;VALUE=DATE:20240907
DTEND;VALUE=DATE:20240909
DTSTAMP:20260423T152851
CREATED:20240801T190333Z
LAST-MODIFIED:20240822T203029Z
UID:7924-1725667200-1725839999@www.shawntellemadison.com
SUMMARY:Printer's Row Festival 2024
DESCRIPTION:Come to the Printer’s Row Festival in early Septmber! Shawntelle will be in conversation with fellow writer and literary critic Tanya Lane and will dive into the world of “The Fallen Fruit”\, a sweeping multi-generational epic that spans centuries. Don’t miss this opportunity to hear from the author herself about her latest release and the inspirations behind it. \nDetails:\n637 S Dearborn St\nChicago\, IL 60605 \nGrace Place\, First Floor at 3pm CST \nWe can’t wait to see you there! Check out the festival schedule here.
URL:https://www.shawntellemadison.com/event/printers-row-festival-2024/
LOCATION:MO
CATEGORIES:Book Festival,The Fallen Fruit Tour
END:VEVENT
BEGIN:VEVENT
DTSTART;TZID=America/Chicago:20240906T183000
DTEND;TZID=America/Chicago:20240906T203000
DTSTAMP:20260423T152851
CREATED:20240627T172810Z
LAST-MODIFIED:20240903T103009Z
UID:7789-1725647400-1725654600@www.shawntellemadison.com
SUMMARY:Rainy Day Signing (CANCELLED)
DESCRIPTION:THIS EVENT HAS BEEN CANCELLED! \nHopefully\, Shawntelle can return to Kansas City another time.
URL:https://www.shawntellemadison.com/event/rainy-day-signing/
LOCATION:MO
CATEGORIES:Booksigning,The Fallen Fruit Tour
END:VEVENT
BEGIN:VEVENT
DTSTART;TZID=America/Chicago:20240905T190000
DTEND;TZID=America/Chicago:20240905T203000
DTSTAMP:20260423T152851
CREATED:20240708T200141Z
LAST-MODIFIED:20240719T174033Z
UID:7862-1725562800-1725568200@www.shawntellemadison.com
SUMMARY:Des Moines Public Library Signing
DESCRIPTION:The Des Moines Public Library is back with its 2024 Fall Author Series! This fall\, you’ll find three author events featuring popular\, best-selling writers with Iowa connections. All events are free and open to the public. After each event\, the author will sign books\, which are available for purchase before and after the event courtesy of Beaverdale Books. \nShawntelle Madison is a Des Moines native who has written over 15 science fiction\, romance\, and fantasy books\, including the popular urban fantasy series\, Coveted. Her new novel\, The Fallen Fruit (release date: September 3)\, is a family saga that follows a Black family that for two centuries has been cursed with the gift of time travel.
URL:https://www.shawntellemadison.com/event/des-moines-public-library-signing/
LOCATION:Des Moines Public Library – Central Library\, 1000 Grand Ave\, Des Moines\, MO\, 50309\, United States
CATEGORIES:Booksigning,The Fallen Fruit Tour
ATTACH;FMTTYPE=image/png:https://www.shawntellemadison.com/wp-content/uploads/2024/07/desmoinesfallauthorseries.png
END:VEVENT
BEGIN:VEVENT
DTSTART;TZID=America/Chicago:20240904T180000
DTEND;TZID=America/Chicago:20240904T190000
DTSTAMP:20260423T152851
CREATED:20240517T154404Z
LAST-MODIFIED:20240725T231318Z
UID:7761-1725472800-1725476400@www.shawntellemadison.com
SUMMARY:Swamp Fox Books & Marion Public Library Signing
DESCRIPTION:This event is FREE\, but space is limited so registration is required. Register Now \nPlease join us on Wednesday\, September 4 at the Marion Public Library as we welcome author Shawntelle Madison. Her debut historical novel\, The Fallen Fruit\, releases on September 3. Preorder your copy today and receive 20% off.
URL:https://www.shawntellemadison.com/event/swamp-fox-books-marion-public-library-signing/
LOCATION:Marion Public Library\, 1101 6th Ave\, Marion\, IA\, 52302\, United States
CATEGORIES:Booksigning,The Fallen Fruit Tour
ATTACH;FMTTYPE=image/jpeg:https://www.shawntellemadison.com/wp-content/uploads/2024/05/swamp-fox-books-logo.jpg
END:VEVENT
BEGIN:VEVENT
DTSTART;TZID=America/Chicago:20240903T190000
DTEND;TZID=America/Chicago:20240903T220000
DTSTAMP:20260423T152851
CREATED:20240703T173433Z
LAST-MODIFIED:20240725T224639Z
UID:7809-1725390000-1725400800@www.shawntellemadison.com
SUMMARY:Main Street Books and St. Charles County Library Signing
DESCRIPTION:Join Main Street Books and the St. Charles City-County Library for a fascinating evening with Shawntelle Madison as she debuts her brand new historical novel THE FALLEN FRUIT. Shawntelle is a long time friend of Main Street Books\, and we are so excited to be able to celebrate this book with her. \nShawntelle will be in conversation with local romance author Jeannie Lin. Shawntelle and Jeannie have been friends and colleagues for years\, and their discussion is sure to be engaging and exciting for fans of historical and speculative fiction alike. \nWe will be hosting this event at Third Wheel Brewing on Tuesday\, September 3rd at 7:00pm. Each ticket will include a copy of THE FALLEN FRUIT and a glass of Third Wheel’s hard cider. \nWe can’t wait to see you there! Register now!
URL:https://www.shawntellemadison.com/event/main-street-books-and-st-charles-county-library-signing/
LOCATION:Third Wheel Brewing\, 4008 I-70 North Outer Rd\, St. Peters\, MO\, 63376\, United States
CATEGORIES:Booksigning,The Fallen Fruit Tour
ATTACH;FMTTYPE=image/png:https://www.shawntellemadison.com/wp-content/uploads/2024/07/main-street-books-logo.png
END:VEVENT
END:VCALENDAR