BEGIN:VCALENDAR
VERSION:2.0
PRODID:-//Shawntelle Madison - ECPv6.15.17//NONSGML v1.0//EN
CALSCALE:GREGORIAN
METHOD:PUBLISH
X-WR-CALNAME:Shawntelle Madison
X-ORIGINAL-URL:https://www.shawntellemadison.com
X-WR-CALDESC:Events for Shawntelle Madison
REFRESH-INTERVAL;VALUE=DURATION:PT1H
X-Robots-Tag:noindex
X-PUBLISHED-TTL:PT1H
BEGIN:VTIMEZONE
TZID:America/Chicago
BEGIN:DAYLIGHT
TZOFFSETFROM:-0600
TZOFFSETTO:-0500
TZNAME:CDT
DTSTART:20230312T080000
END:DAYLIGHT
BEGIN:STANDARD
TZOFFSETFROM:-0500
TZOFFSETTO:-0600
TZNAME:CST
DTSTART:20231105T070000
END:STANDARD
BEGIN:DAYLIGHT
TZOFFSETFROM:-0600
TZOFFSETTO:-0500
TZNAME:CDT
DTSTART:20240310T080000
END:DAYLIGHT
BEGIN:STANDARD
TZOFFSETFROM:-0500
TZOFFSETTO:-0600
TZNAME:CST
DTSTART:20241103T070000
END:STANDARD
BEGIN:DAYLIGHT
TZOFFSETFROM:-0600
TZOFFSETTO:-0500
TZNAME:CDT
DTSTART:20250309T080000
END:DAYLIGHT
BEGIN:STANDARD
TZOFFSETFROM:-0500
TZOFFSETTO:-0600
TZNAME:CST
DTSTART:20251102T070000
END:STANDARD
END:VTIMEZONE
BEGIN:VTIMEZONE
TZID:America/Chicago
BEGIN:DAYLIGHT
TZOFFSETFROM:-0600
TZOFFSETTO:-0500
TZNAME:CDT
DTSTART:20130310T080000
END:DAYLIGHT
BEGIN:STANDARD
TZOFFSETFROM:-0500
TZOFFSETTO:-0600
TZNAME:CST
DTSTART:20131103T070000
END:STANDARD
BEGIN:DAYLIGHT
TZOFFSETFROM:-0600
TZOFFSETTO:-0500
TZNAME:CDT
DTSTART:20140309T080000
END:DAYLIGHT
BEGIN:STANDARD
TZOFFSETFROM:-0500
TZOFFSETTO:-0600
TZNAME:CST
DTSTART:20141102T070000
END:STANDARD
BEGIN:DAYLIGHT
TZOFFSETFROM:-0600
TZOFFSETTO:-0500
TZNAME:CDT
DTSTART:20150308T080000
END:DAYLIGHT
BEGIN:STANDARD
TZOFFSETFROM:-0500
TZOFFSETTO:-0600
TZNAME:CST
DTSTART:20151101T070000
END:STANDARD
END:VTIMEZONE
BEGIN:VEVENT
DTSTART;TZID=America/Chicago:20240921T090000
DTEND;TZID=America/Chicago:20240921T120000
DTSTAMP:20260423T151646
CREATED:20240719T180930Z
LAST-MODIFIED:20240725T231446Z
UID:7892-1726909200-1726920000@www.shawntellemadison.com
SUMMARY:St Louis Public Library Carondelet Library Author Breakfast
DESCRIPTION:Join six local authors including Gabe Montesanti author of Brace for Impact; Michelle Collins Anderson\, author of The Flower Sisters; newly published Nigerian author Chukwuebuka Ibeh\, author of Blessings; speculative fiction author Shawntelle Madison; Meredith Tate\, author of several teen books including The Last Confession of Autumn Casterly; and Emily Bain Murphy whose debut adult novel is Enchanted Hill for a speed dating style event.  Left Bank Books is on hand to purchase copies of the authors’ books.  Registration limited to 50\, so sign up today!
URL:https://www.shawntellemadison.com/event/st-louis-public-library-carondelet-library-author-breakfast/
LOCATION:St. Louis Public Library Carondelet Branch\, 6800 Michigan Avenue\, Saint Louis\, MO\, 63111\, United States
CATEGORIES:Booksigning,Luncheon
END:VEVENT
BEGIN:VEVENT
DTSTART;TZID=America/Chicago:20140426T000000
DTEND;TZID=America/Chicago:20140426T000000
DTSTAMP:20260423T151646
CREATED:20230408T211941Z
LAST-MODIFIED:20230408T211941Z
UID:6174-1398470400-1398470400@www.shawntellemadison.com
SUMMARY:Barbara Vey Reader Appreciation Luncheon
DESCRIPTION:
URL:https://www.shawntellemadison.com/event/barbara-vey-reader-appreciation-luncheon/
LOCATION:MO
CATEGORIES:Booksigning,Luncheon
END:VEVENT
END:VCALENDAR