BEGIN:VCALENDAR
VERSION:2.0
PRODID:-//Shawntelle Madison - ECPv6.15.17//NONSGML v1.0//EN
CALSCALE:GREGORIAN
METHOD:PUBLISH
X-WR-CALNAME:Shawntelle Madison
X-ORIGINAL-URL:https://www.shawntellemadison.com
X-WR-CALDESC:Events for Shawntelle Madison
REFRESH-INTERVAL;VALUE=DURATION:PT1H
X-Robots-Tag:noindex
X-PUBLISHED-TTL:PT1H
BEGIN:VTIMEZONE
TZID:America/Chicago
BEGIN:DAYLIGHT
TZOFFSETFROM:-0600
TZOFFSETTO:-0500
TZNAME:CDT
DTSTART:20120311T080000
END:DAYLIGHT
BEGIN:STANDARD
TZOFFSETFROM:-0500
TZOFFSETTO:-0600
TZNAME:CST
DTSTART:20121104T070000
END:STANDARD
BEGIN:DAYLIGHT
TZOFFSETFROM:-0600
TZOFFSETTO:-0500
TZNAME:CDT
DTSTART:20130310T080000
END:DAYLIGHT
BEGIN:STANDARD
TZOFFSETFROM:-0500
TZOFFSETTO:-0600
TZNAME:CST
DTSTART:20131103T070000
END:STANDARD
BEGIN:DAYLIGHT
TZOFFSETFROM:-0600
TZOFFSETTO:-0500
TZNAME:CDT
DTSTART:20140309T080000
END:DAYLIGHT
BEGIN:STANDARD
TZOFFSETFROM:-0500
TZOFFSETTO:-0600
TZNAME:CST
DTSTART:20141102T070000
END:STANDARD
BEGIN:DAYLIGHT
TZOFFSETFROM:-0600
TZOFFSETTO:-0500
TZNAME:CDT
DTSTART:20150308T080000
END:DAYLIGHT
BEGIN:STANDARD
TZOFFSETFROM:-0500
TZOFFSETTO:-0600
TZNAME:CST
DTSTART:20151101T070000
END:STANDARD
BEGIN:DAYLIGHT
TZOFFSETFROM:-0600
TZOFFSETTO:-0500
TZNAME:CDT
DTSTART:20160313T080000
END:DAYLIGHT
BEGIN:STANDARD
TZOFFSETFROM:-0500
TZOFFSETTO:-0600
TZNAME:CST
DTSTART:20161106T070000
END:STANDARD
BEGIN:DAYLIGHT
TZOFFSETFROM:-0600
TZOFFSETTO:-0500
TZNAME:CDT
DTSTART:20170312T080000
END:DAYLIGHT
BEGIN:STANDARD
TZOFFSETFROM:-0500
TZOFFSETTO:-0600
TZNAME:CST
DTSTART:20171105T070000
END:STANDARD
BEGIN:DAYLIGHT
TZOFFSETFROM:-0600
TZOFFSETTO:-0500
TZNAME:CDT
DTSTART:20180311T080000
END:DAYLIGHT
BEGIN:STANDARD
TZOFFSETFROM:-0500
TZOFFSETTO:-0600
TZNAME:CST
DTSTART:20181104T070000
END:STANDARD
BEGIN:DAYLIGHT
TZOFFSETFROM:-0600
TZOFFSETTO:-0500
TZNAME:CDT
DTSTART:20190310T080000
END:DAYLIGHT
BEGIN:STANDARD
TZOFFSETFROM:-0500
TZOFFSETTO:-0600
TZNAME:CST
DTSTART:20191103T070000
END:STANDARD
BEGIN:DAYLIGHT
TZOFFSETFROM:-0600
TZOFFSETTO:-0500
TZNAME:CDT
DTSTART:20200308T080000
END:DAYLIGHT
BEGIN:STANDARD
TZOFFSETFROM:-0500
TZOFFSETTO:-0600
TZNAME:CST
DTSTART:20201101T070000
END:STANDARD
BEGIN:DAYLIGHT
TZOFFSETFROM:-0600
TZOFFSETTO:-0500
TZNAME:CDT
DTSTART:20210314T080000
END:DAYLIGHT
BEGIN:STANDARD
TZOFFSETFROM:-0500
TZOFFSETTO:-0600
TZNAME:CST
DTSTART:20211107T070000
END:STANDARD
BEGIN:DAYLIGHT
TZOFFSETFROM:-0600
TZOFFSETTO:-0500
TZNAME:CDT
DTSTART:20220313T080000
END:DAYLIGHT
BEGIN:STANDARD
TZOFFSETFROM:-0500
TZOFFSETTO:-0600
TZNAME:CST
DTSTART:20221106T070000
END:STANDARD
BEGIN:DAYLIGHT
TZOFFSETFROM:-0600
TZOFFSETTO:-0500
TZNAME:CDT
DTSTART:20230312T080000
END:DAYLIGHT
BEGIN:STANDARD
TZOFFSETFROM:-0500
TZOFFSETTO:-0600
TZNAME:CST
DTSTART:20231105T070000
END:STANDARD
BEGIN:DAYLIGHT
TZOFFSETFROM:-0600
TZOFFSETTO:-0500
TZNAME:CDT
DTSTART:20240310T080000
END:DAYLIGHT
BEGIN:STANDARD
TZOFFSETFROM:-0500
TZOFFSETTO:-0600
TZNAME:CST
DTSTART:20241103T070000
END:STANDARD
BEGIN:DAYLIGHT
TZOFFSETFROM:-0600
TZOFFSETTO:-0500
TZNAME:CDT
DTSTART:20250309T080000
END:DAYLIGHT
BEGIN:STANDARD
TZOFFSETFROM:-0500
TZOFFSETTO:-0600
TZNAME:CST
DTSTART:20251102T070000
END:STANDARD
BEGIN:DAYLIGHT
TZOFFSETFROM:-0600
TZOFFSETTO:-0500
TZNAME:CDT
DTSTART:20260308T080000
END:DAYLIGHT
BEGIN:STANDARD
TZOFFSETFROM:-0500
TZOFFSETTO:-0600
TZNAME:CST
DTSTART:20261101T070000
END:STANDARD
BEGIN:DAYLIGHT
TZOFFSETFROM:-0600
TZOFFSETTO:-0500
TZNAME:CDT
DTSTART:20270314T080000
END:DAYLIGHT
BEGIN:STANDARD
TZOFFSETFROM:-0500
TZOFFSETTO:-0600
TZNAME:CST
DTSTART:20271107T070000
END:STANDARD
END:VTIMEZONE
BEGIN:VTIMEZONE
TZID:America/Chicago
BEGIN:DAYLIGHT
TZOFFSETFROM:-0600
TZOFFSETTO:-0500
TZNAME:CDT
DTSTART:20110313T080000
END:DAYLIGHT
BEGIN:STANDARD
TZOFFSETFROM:-0500
TZOFFSETTO:-0600
TZNAME:CST
DTSTART:20111106T070000
END:STANDARD
BEGIN:DAYLIGHT
TZOFFSETFROM:-0600
TZOFFSETTO:-0500
TZNAME:CDT
DTSTART:20120311T080000
END:DAYLIGHT
BEGIN:STANDARD
TZOFFSETFROM:-0500
TZOFFSETTO:-0600
TZNAME:CST
DTSTART:20121104T070000
END:STANDARD
BEGIN:DAYLIGHT
TZOFFSETFROM:-0600
TZOFFSETTO:-0500
TZNAME:CDT
DTSTART:20130310T080000
END:DAYLIGHT
BEGIN:STANDARD
TZOFFSETFROM:-0500
TZOFFSETTO:-0600
TZNAME:CST
DTSTART:20131103T070000
END:STANDARD
BEGIN:DAYLIGHT
TZOFFSETFROM:-0600
TZOFFSETTO:-0500
TZNAME:CDT
DTSTART:20140309T080000
END:DAYLIGHT
BEGIN:STANDARD
TZOFFSETFROM:-0500
TZOFFSETTO:-0600
TZNAME:CST
DTSTART:20141102T070000
END:STANDARD
BEGIN:DAYLIGHT
TZOFFSETFROM:-0600
TZOFFSETTO:-0500
TZNAME:CDT
DTSTART:20150308T080000
END:DAYLIGHT
BEGIN:STANDARD
TZOFFSETFROM:-0500
TZOFFSETTO:-0600
TZNAME:CST
DTSTART:20151101T070000
END:STANDARD
BEGIN:DAYLIGHT
TZOFFSETFROM:-0600
TZOFFSETTO:-0500
TZNAME:CDT
DTSTART:20160313T080000
END:DAYLIGHT
BEGIN:STANDARD
TZOFFSETFROM:-0500
TZOFFSETTO:-0600
TZNAME:CST
DTSTART:20161106T070000
END:STANDARD
BEGIN:DAYLIGHT
TZOFFSETFROM:-0600
TZOFFSETTO:-0500
TZNAME:CDT
DTSTART:20170312T080000
END:DAYLIGHT
BEGIN:STANDARD
TZOFFSETFROM:-0500
TZOFFSETTO:-0600
TZNAME:CST
DTSTART:20171105T070000
END:STANDARD
BEGIN:DAYLIGHT
TZOFFSETFROM:-0600
TZOFFSETTO:-0500
TZNAME:CDT
DTSTART:20180311T080000
END:DAYLIGHT
BEGIN:STANDARD
TZOFFSETFROM:-0500
TZOFFSETTO:-0600
TZNAME:CST
DTSTART:20181104T070000
END:STANDARD
BEGIN:DAYLIGHT
TZOFFSETFROM:-0600
TZOFFSETTO:-0500
TZNAME:CDT
DTSTART:20190310T080000
END:DAYLIGHT
BEGIN:STANDARD
TZOFFSETFROM:-0500
TZOFFSETTO:-0600
TZNAME:CST
DTSTART:20191103T070000
END:STANDARD
BEGIN:DAYLIGHT
TZOFFSETFROM:-0600
TZOFFSETTO:-0500
TZNAME:CDT
DTSTART:20200308T080000
END:DAYLIGHT
BEGIN:STANDARD
TZOFFSETFROM:-0500
TZOFFSETTO:-0600
TZNAME:CST
DTSTART:20201101T070000
END:STANDARD
BEGIN:DAYLIGHT
TZOFFSETFROM:-0600
TZOFFSETTO:-0500
TZNAME:CDT
DTSTART:20210314T080000
END:DAYLIGHT
BEGIN:STANDARD
TZOFFSETFROM:-0500
TZOFFSETTO:-0600
TZNAME:CST
DTSTART:20211107T070000
END:STANDARD
BEGIN:DAYLIGHT
TZOFFSETFROM:-0600
TZOFFSETTO:-0500
TZNAME:CDT
DTSTART:20220313T080000
END:DAYLIGHT
BEGIN:STANDARD
TZOFFSETFROM:-0500
TZOFFSETTO:-0600
TZNAME:CST
DTSTART:20221106T070000
END:STANDARD
BEGIN:DAYLIGHT
TZOFFSETFROM:-0600
TZOFFSETTO:-0500
TZNAME:CDT
DTSTART:20230312T080000
END:DAYLIGHT
BEGIN:STANDARD
TZOFFSETFROM:-0500
TZOFFSETTO:-0600
TZNAME:CST
DTSTART:20231105T070000
END:STANDARD
BEGIN:DAYLIGHT
TZOFFSETFROM:-0600
TZOFFSETTO:-0500
TZNAME:CDT
DTSTART:20240310T080000
END:DAYLIGHT
BEGIN:STANDARD
TZOFFSETFROM:-0500
TZOFFSETTO:-0600
TZNAME:CST
DTSTART:20241103T070000
END:STANDARD
BEGIN:DAYLIGHT
TZOFFSETFROM:-0600
TZOFFSETTO:-0500
TZNAME:CDT
DTSTART:20250309T080000
END:DAYLIGHT
BEGIN:STANDARD
TZOFFSETFROM:-0500
TZOFFSETTO:-0600
TZNAME:CST
DTSTART:20251102T070000
END:STANDARD
BEGIN:DAYLIGHT
TZOFFSETFROM:-0600
TZOFFSETTO:-0500
TZNAME:CDT
DTSTART:20260308T080000
END:DAYLIGHT
BEGIN:STANDARD
TZOFFSETFROM:-0500
TZOFFSETTO:-0600
TZNAME:CST
DTSTART:20261101T070000
END:STANDARD
END:VTIMEZONE
BEGIN:VEVENT
DTSTART;VALUE=DATE:20260416
DTEND;VALUE=DATE:20260419
DTSTAMP:20260423T133454
CREATED:20260106T160514Z
LAST-MODIFIED:20260106T160514Z
UID:8265-1776297600-1776556799@www.shawntellemadison.com
SUMMARY:Spring Fling Writers Conference 2026
DESCRIPTION:More details coming soon about this Chicago\, IL based event.
URL:https://www.shawntellemadison.com/event/spring-fling-writers-conference-2026/
CATEGORIES:Booksigning,Conference
END:VEVENT
BEGIN:VEVENT
DTSTART;VALUE=DATE:20250628
DTEND;VALUE=DATE:20250629
DTSTAMP:20260423T133454
CREATED:20250515T220356Z
LAST-MODIFIED:20250515T220356Z
UID:8207-1751068800-1751155199@www.shawntellemadison.com
SUMMARY:Historical Novel Society Conference
DESCRIPTION:
URL:https://www.shawntellemadison.com/event/historical-novel-society-conference/
CATEGORIES:Conference
END:VEVENT
BEGIN:VEVENT
DTSTART;TZID=America/Chicago:20240808T080000
DTEND;TZID=America/Chicago:20240810T170000
DTSTAMP:20260423T133454
CREATED:20240218T192030Z
LAST-MODIFIED:20240708T172407Z
UID:7507-1723104000-1723309200@www.shawntellemadison.com
SUMMARY:Romance GenreCon 2024
DESCRIPTION:The most romantic event at the Library returns August 8-10\, 2024\, at the Woodneath Library Center and Auditorium. Julia Quinn\, author of the Bridgerton series\, will be joining us to discuss the best-selling series (and top-watched show on Netflix)\, and sign copies of her books. \nGet ready for a weekend of author panels\, book signings\, and opportunities to connect with fellow readers. Fans of every type of romance will find something to love. For writers\, Romance GenreCon is an ideal platform to enhance your skills\, refine your storytelling\, and find inspiration for your craft. \nOther events include the Lady KC Reading Salon hosted by Cathy Maxwell\, a Romance State of the Union\, author panels\, a book fair\, and more. Participants must register for each of the days they plan on attending\, so stay tuned for daily schedules.
URL:https://www.shawntellemadison.com/event/romance-genrecon-2024/
LOCATION:Woodneath Library Center\, 8900 NE Flintlock Rd\, Kansas City\, MO\, 64157\, United States
CATEGORIES:Booksigning,Conference
ATTACH;FMTTYPE=image/png:https://www.shawntellemadison.com/wp-content/uploads/2024/02/RomanceGenreCon2024-1.png
END:VEVENT
BEGIN:VEVENT
DTSTART;TZID=America/Chicago:20230610T170000
DTEND;TZID=America/Chicago:20230610T190000
DTSTAMP:20260423T133454
CREATED:20230210T213700Z
LAST-MODIFIED:20230606T172048Z
UID:5857-1686416400-1686423600@www.shawntellemadison.com
SUMMARY:Historical Novel Society North America 2023
DESCRIPTION:Check back soon for more information! Registration for this conference opens February 15\, 2023.
URL:https://www.shawntellemadison.com/event/historical-novel-society-north-america-2023/
LOCATION:San Antonio Marriott Rivercenter\, 101 Bowie St\, San Antonio\, TX\, 78205\, United States
CATEGORIES:Booksigning,Conference
ATTACH;FMTTYPE=image/png:https://www.shawntellemadison.com/wp-content/uploads/2022/12/HNS_2023.png
END:VEVENT
BEGIN:VEVENT
DTSTART;TZID=America/Chicago:20220805T080000
DTEND;TZID=America/Chicago:20220806T170000
DTSTAMP:20260423T133454
CREATED:20230408T201431Z
LAST-MODIFIED:20230409T134312Z
UID:6166-1659686400-1659805200@www.shawntellemadison.com
SUMMARY:Romance GenreCon 2022
DESCRIPTION:Romance GenreCon 2022 will take place August 4-6\, 2022 at Woodneath Library Center and its new auditorium in Kansas City\, MO. Learn more.
URL:https://www.shawntellemadison.com/event/romance-genrecon-2022/
LOCATION:Woodneath Library Center\, 8900 NE Flintlock Rd\, Kansas City\, MO\, 64157\, United States
CATEGORIES:Booksigning,Conference
ATTACH;FMTTYPE=image/png:https://www.shawntellemadison.com/wp-content/uploads/2023/02/romancegenrecon.png
END:VEVENT
BEGIN:VEVENT
DTSTART;TZID=America/Chicago:20131018T000000
DTEND;TZID=America/Chicago:20131020T000000
DTSTAMP:20260423T133454
CREATED:20230408T211943Z
LAST-MODIFIED:20230408T211943Z
UID:6177-1382054400-1382227200@www.shawntellemadison.com
SUMMARY:GSRWA Emerald City Writers' Conference 2013
DESCRIPTION:
URL:https://www.shawntellemadison.com/event/gsrwa-emerald-city-writers-conference-2013/
CATEGORIES:Conference
END:VEVENT
BEGIN:VEVENT
DTSTART;TZID=America/Chicago:20130717T000000
DTEND;TZID=America/Chicago:20130720T000000
DTSTAMP:20260423T133454
CREATED:20230408T211943Z
LAST-MODIFIED:20230408T211943Z
UID:6178-1374019200-1374278400@www.shawntellemadison.com
SUMMARY:RWA 2013
DESCRIPTION:
URL:https://www.shawntellemadison.com/event/rwa-2013/
CATEGORIES:Booksigning,Conference
END:VEVENT
BEGIN:VEVENT
DTSTART;TZID=America/Chicago:20130606T000000
DTEND;TZID=America/Chicago:20130609T000000
DTSTAMP:20260423T133454
CREATED:20230408T211944Z
LAST-MODIFIED:20230408T211944Z
UID:6179-1370476800-1370736000@www.shawntellemadison.com
SUMMARY:9th Annual Reader & Author Get Together
DESCRIPTION:
URL:https://www.shawntellemadison.com/event/9th-annual-reader-author-get-together/
CATEGORIES:Booksigning,Conference
END:VEVENT
BEGIN:VEVENT
DTSTART;TZID=America/Chicago:20120420T000000
DTEND;TZID=America/Chicago:20120422T000000
DTSTAMP:20260423T133454
CREATED:20230408T212002Z
LAST-MODIFIED:20230408T212002Z
UID:6191-1334880000-1335052800@www.shawntellemadison.com
SUMMARY:Missouri Writer's Guild Conference
DESCRIPTION:
URL:https://www.shawntellemadison.com/event/missouri-writers-guild-conference/
CATEGORIES:Conference
END:VEVENT
END:VCALENDAR