BEGIN:VCALENDAR
VERSION:2.0
PRODID:-//Shawntelle Madison - ECPv6.15.17//NONSGML v1.0//EN
CALSCALE:GREGORIAN
METHOD:PUBLISH
X-WR-CALNAME:Shawntelle Madison
X-ORIGINAL-URL:https://www.shawntellemadison.com
X-WR-CALDESC:Events for Shawntelle Madison
REFRESH-INTERVAL;VALUE=DURATION:PT1H
X-Robots-Tag:noindex
X-PUBLISHED-TTL:PT1H
BEGIN:VTIMEZONE
TZID:America/Chicago
BEGIN:DAYLIGHT
TZOFFSETFROM:-0600
TZOFFSETTO:-0500
TZNAME:CDT
DTSTART:20110313T080000
END:DAYLIGHT
BEGIN:STANDARD
TZOFFSETFROM:-0500
TZOFFSETTO:-0600
TZNAME:CST
DTSTART:20111106T070000
END:STANDARD
BEGIN:DAYLIGHT
TZOFFSETFROM:-0600
TZOFFSETTO:-0500
TZNAME:CDT
DTSTART:20120311T080000
END:DAYLIGHT
BEGIN:STANDARD
TZOFFSETFROM:-0500
TZOFFSETTO:-0600
TZNAME:CST
DTSTART:20121104T070000
END:STANDARD
BEGIN:DAYLIGHT
TZOFFSETFROM:-0600
TZOFFSETTO:-0500
TZNAME:CDT
DTSTART:20130310T080000
END:DAYLIGHT
BEGIN:STANDARD
TZOFFSETFROM:-0500
TZOFFSETTO:-0600
TZNAME:CST
DTSTART:20131103T070000
END:STANDARD
BEGIN:DAYLIGHT
TZOFFSETFROM:-0600
TZOFFSETTO:-0500
TZNAME:CDT
DTSTART:20140309T080000
END:DAYLIGHT
BEGIN:STANDARD
TZOFFSETFROM:-0500
TZOFFSETTO:-0600
TZNAME:CST
DTSTART:20141102T070000
END:STANDARD
BEGIN:DAYLIGHT
TZOFFSETFROM:-0600
TZOFFSETTO:-0500
TZNAME:CDT
DTSTART:20150308T080000
END:DAYLIGHT
BEGIN:STANDARD
TZOFFSETFROM:-0500
TZOFFSETTO:-0600
TZNAME:CST
DTSTART:20151101T070000
END:STANDARD
END:VTIMEZONE
BEGIN:VTIMEZONE
TZID:America/Chicago
BEGIN:DAYLIGHT
TZOFFSETFROM:-0600
TZOFFSETTO:-0500
TZNAME:CDT
DTSTART:20100314T080000
END:DAYLIGHT
BEGIN:STANDARD
TZOFFSETFROM:-0500
TZOFFSETTO:-0600
TZNAME:CST
DTSTART:20101107T070000
END:STANDARD
BEGIN:DAYLIGHT
TZOFFSETFROM:-0600
TZOFFSETTO:-0500
TZNAME:CDT
DTSTART:20110313T080000
END:DAYLIGHT
BEGIN:STANDARD
TZOFFSETFROM:-0500
TZOFFSETTO:-0600
TZNAME:CST
DTSTART:20111106T070000
END:STANDARD
BEGIN:DAYLIGHT
TZOFFSETFROM:-0600
TZOFFSETTO:-0500
TZNAME:CDT
DTSTART:20120311T080000
END:DAYLIGHT
BEGIN:STANDARD
TZOFFSETFROM:-0500
TZOFFSETTO:-0600
TZNAME:CST
DTSTART:20121104T070000
END:STANDARD
BEGIN:DAYLIGHT
TZOFFSETFROM:-0600
TZOFFSETTO:-0500
TZNAME:CDT
DTSTART:20130310T080000
END:DAYLIGHT
BEGIN:STANDARD
TZOFFSETFROM:-0500
TZOFFSETTO:-0600
TZNAME:CST
DTSTART:20131103T070000
END:STANDARD
END:VTIMEZONE
BEGIN:VEVENT
DTSTART;TZID=America/Chicago:20140514T000000
DTEND;TZID=America/Chicago:20140518T000000
DTSTAMP:20260423T152201
CREATED:20230408T211941Z
LAST-MODIFIED:20230408T212241Z
UID:6175-1400025600-1400371200@www.shawntellemadison.com
SUMMARY:RT Convention 2014
DESCRIPTION:
URL:https://www.shawntellemadison.com/event/rt-convention-2014/
LOCATION:New Orleans Marriott\, 555 Canal St.\, New Orleans\, LA\, 70130\, United States
CATEGORIES:Booksigning,Convention
END:VEVENT
BEGIN:VEVENT
DTSTART;TZID=America/Chicago:20140426T000000
DTEND;TZID=America/Chicago:20140426T000000
DTSTAMP:20260423T152201
CREATED:20230408T211941Z
LAST-MODIFIED:20230408T211941Z
UID:6174-1398470400-1398470400@www.shawntellemadison.com
SUMMARY:Barbara Vey Reader Appreciation Luncheon
DESCRIPTION:
URL:https://www.shawntellemadison.com/event/barbara-vey-reader-appreciation-luncheon/
CATEGORIES:Booksigning,Luncheon
END:VEVENT
BEGIN:VEVENT
DTSTART;TZID=America/Chicago:20130921T000000
DTEND;TZID=America/Chicago:20130921T000000
DTSTAMP:20260423T152201
CREATED:20230408T211943Z
LAST-MODIFIED:20230408T211943Z
UID:6176-1379721600-1379721600@www.shawntellemadison.com
SUMMARY:Ozarks Romance Authors Conference 2013
DESCRIPTION:
URL:https://www.shawntellemadison.com/event/ozarks-romance-authors-conference-2013/
CATEGORIES:Booksigning
END:VEVENT
BEGIN:VEVENT
DTSTART;TZID=America/Chicago:20130717T000000
DTEND;TZID=America/Chicago:20130720T000000
DTSTAMP:20260423T152201
CREATED:20230408T211943Z
LAST-MODIFIED:20230408T211943Z
UID:6178-1374019200-1374278400@www.shawntellemadison.com
SUMMARY:RWA 2013
DESCRIPTION:
URL:https://www.shawntellemadison.com/event/rwa-2013/
CATEGORIES:Booksigning,Conference
END:VEVENT
BEGIN:VEVENT
DTSTART;TZID=America/Chicago:20130606T000000
DTEND;TZID=America/Chicago:20130609T000000
DTSTAMP:20260423T152201
CREATED:20230408T211944Z
LAST-MODIFIED:20230408T211944Z
UID:6179-1370476800-1370736000@www.shawntellemadison.com
SUMMARY:9th Annual Reader & Author Get Together
DESCRIPTION:
URL:https://www.shawntellemadison.com/event/9th-annual-reader-author-get-together/
CATEGORIES:Booksigning,Conference
END:VEVENT
BEGIN:VEVENT
DTSTART;TZID=America/Chicago:20130209T000000
DTEND;TZID=America/Chicago:20130209T000000
DTSTAMP:20260423T152201
CREATED:20230408T211947Z
LAST-MODIFIED:20230408T211947Z
UID:6181-1360368000-1360368000@www.shawntellemadison.com
SUMMARY:Rose's Bookhouse Booksigning 2013
DESCRIPTION:
URL:https://www.shawntellemadison.com/event/roses-bookhouse-booksigning-2013/
CATEGORIES:Booksigning
END:VEVENT
BEGIN:VEVENT
DTSTART;TZID=America/Chicago:20121124T000000
DTEND;TZID=America/Chicago:20121124T000000
DTSTAMP:20260423T152201
CREATED:20230408T211947Z
LAST-MODIFIED:20230408T211947Z
UID:6183-1353715200-1353715200@www.shawntellemadison.com
SUMMARY:Authors Booksigning at Walgreens
DESCRIPTION:
URL:https://www.shawntellemadison.com/event/authors-booksigning-at-walgreens/
CATEGORIES:Booksigning
END:VEVENT
BEGIN:VEVENT
DTSTART;TZID=America/Chicago:20121115T000000
DTEND;TZID=America/Chicago:20121115T000000
DTSTAMP:20260423T152201
CREATED:20230408T211947Z
LAST-MODIFIED:20230408T211947Z
UID:6182-1352937600-1352937600@www.shawntellemadison.com
SUMMARY:2012 Girls Night Out! Romance and Wine with Angie Fox\, Patricia Rice and Shawntelle Madison
DESCRIPTION:
URL:https://www.shawntellemadison.com/event/2012-girls-night-out-romance-and-wine-with-angie-fox-patricia-rice-and-shawntelle-madison/
CATEGORIES:Booksigning
END:VEVENT
BEGIN:VEVENT
DTSTART;TZID=America/Chicago:20120825T100000
DTEND;TZID=America/Chicago:20120825T100000
DTSTAMP:20260423T152201
CREATED:20230408T211947Z
LAST-MODIFIED:20230408T211947Z
UID:6184-1345888800-1345888800@www.shawntellemadison.com
SUMMARY:3rd Annual Writers in the Park
DESCRIPTION:
URL:https://www.shawntellemadison.com/event/3rd-annual-writers-in-the-park/
CATEGORIES:Booksigning
END:VEVENT
BEGIN:VEVENT
DTSTART;TZID=America/Chicago:20120725T000000
DTEND;TZID=America/Chicago:20120728T000000
DTSTAMP:20260423T152201
CREATED:20230408T212001Z
LAST-MODIFIED:20230408T212001Z
UID:6186-1343174400-1343433600@www.shawntellemadison.com
SUMMARY:RWA 2012
DESCRIPTION:
URL:https://www.shawntellemadison.com/event/rwa-2012/
LOCATION:Anaheim Marriott\, 700 W Convention Way\, Anaheim\, MO\, 92802\, United States
CATEGORIES:Booksigning
END:VEVENT
BEGIN:VEVENT
DTSTART;TZID=America/Chicago:20120711T000000
DTEND;TZID=America/Chicago:20120715T000000
DTSTAMP:20260423T152201
CREATED:20230408T212001Z
LAST-MODIFIED:20230408T212001Z
UID:6187-1341964800-1342310400@www.shawntellemadison.com
SUMMARY:Comic Con International San Diego
DESCRIPTION:
URL:https://www.shawntellemadison.com/event/comic-con-international-san-diego/
CATEGORIES:Booksigning,Convention
END:VEVENT
BEGIN:VEVENT
DTSTART;TZID=America/Chicago:20120607T190000
DTEND;TZID=America/Chicago:20120607T190000
DTSTAMP:20260423T152201
CREATED:20230408T212001Z
LAST-MODIFIED:20230408T212001Z
UID:6188-1339095600-1339095600@www.shawntellemadison.com
SUMMARY:Booksigning with YA Author Cole Gibsen
DESCRIPTION:
URL:https://www.shawntellemadison.com/event/booksigning-with-ya-author-cole-gibsen/
CATEGORIES:Booksigning
END:VEVENT
BEGIN:VEVENT
DTSTART;TZID=America/Chicago:20120601T000000
DTEND;TZID=America/Chicago:20120602T000000
DTSTAMP:20260423T152201
CREATED:20230408T212001Z
LAST-MODIFIED:20230408T212001Z
UID:6189-1338508800-1338595200@www.shawntellemadison.com
SUMMARY:8th Annual Reader Author Get Together
DESCRIPTION:
URL:https://www.shawntellemadison.com/event/8th-annual-reader-author-get-together/
CATEGORIES:Booksigning
END:VEVENT
BEGIN:VEVENT
DTSTART;TZID=America/Chicago:20120428T120000
DTEND;TZID=America/Chicago:20120428T120000
DTSTAMP:20260423T152201
CREATED:20230408T212001Z
LAST-MODIFIED:20230408T212001Z
UID:6190-1335614400-1335614400@www.shawntellemadison.com
SUMMARY:Coveted Book Launch Party
DESCRIPTION:
URL:https://www.shawntellemadison.com/event/coveted-book-launch-party/
CATEGORIES:Booksigning,Launch Party
END:VEVENT
BEGIN:VEVENT
DTSTART;TZID=America/Chicago:20120411T000000
DTEND;TZID=America/Chicago:20120415T000000
DTSTAMP:20260423T152201
CREATED:20230408T212002Z
LAST-MODIFIED:20230408T212002Z
UID:6192-1334102400-1334448000@www.shawntellemadison.com
SUMMARY:RT Convention 2012
DESCRIPTION:
URL:https://www.shawntellemadison.com/event/rt-convention-2012/
CATEGORIES:Booksigning,Convention
END:VEVENT
BEGIN:VEVENT
DTSTART;TZID=America/Chicago:20110902T000000
DTEND;TZID=America/Chicago:20110905T000000
DTSTAMP:20260423T152201
CREATED:20230408T212002Z
LAST-MODIFIED:20230408T212002Z
UID:6193-1314921600-1315180800@www.shawntellemadison.com
SUMMARY:Dragon Con 2011
DESCRIPTION:
URL:https://www.shawntellemadison.com/event/dragon-con-2011/
CATEGORIES:Booksigning,Convention
END:VEVENT
END:VCALENDAR