BEGIN:VCALENDAR
VERSION:2.0
PRODID:-//Shawntelle Madison - ECPv6.15.17//NONSGML v1.0//EN
CALSCALE:GREGORIAN
METHOD:PUBLISH
X-ORIGINAL-URL:https://www.shawntellemadison.com
X-WR-CALDESC:Events for Shawntelle Madison
REFRESH-INTERVAL;VALUE=DURATION:PT1H
X-Robots-Tag:noindex
X-PUBLISHED-TTL:PT1H
BEGIN:VTIMEZONE
TZID:America/Chicago
BEGIN:DAYLIGHT
TZOFFSETFROM:-0600
TZOFFSETTO:-0500
TZNAME:CDT
DTSTART:20230312T080000
END:DAYLIGHT
BEGIN:STANDARD
TZOFFSETFROM:-0500
TZOFFSETTO:-0600
TZNAME:CST
DTSTART:20231105T070000
END:STANDARD
BEGIN:DAYLIGHT
TZOFFSETFROM:-0600
TZOFFSETTO:-0500
TZNAME:CDT
DTSTART:20240310T080000
END:DAYLIGHT
BEGIN:STANDARD
TZOFFSETFROM:-0500
TZOFFSETTO:-0600
TZNAME:CST
DTSTART:20241103T070000
END:STANDARD
BEGIN:DAYLIGHT
TZOFFSETFROM:-0600
TZOFFSETTO:-0500
TZNAME:CDT
DTSTART:20250309T080000
END:DAYLIGHT
BEGIN:STANDARD
TZOFFSETFROM:-0500
TZOFFSETTO:-0600
TZNAME:CST
DTSTART:20251102T070000
END:STANDARD
END:VTIMEZONE
BEGIN:VEVENT
DTSTART;TZID=America/Chicago:20240904T180000
DTEND;TZID=America/Chicago:20240904T190000
DTSTAMP:20260424T182014
CREATED:20240517T154404Z
LAST-MODIFIED:20240725T231318Z
UID:7761-1725472800-1725476400@www.shawntellemadison.com
SUMMARY:Swamp Fox Books & Marion Public Library Signing
DESCRIPTION:This event is FREE\, but space is limited so registration is required. Register Now \nPlease join us on Wednesday\, September 4 at the Marion Public Library as we welcome author Shawntelle Madison. Her debut historical novel\, The Fallen Fruit\, releases on September 3. Preorder your copy today and receive 20% off.
URL:https://www.shawntellemadison.com/event/swamp-fox-books-marion-public-library-signing/
LOCATION:Marion Public Library\, 1101 6th Ave\, Marion\, IA\, 52302\, United States
CATEGORIES:Booksigning,The Fallen Fruit Tour
ATTACH;FMTTYPE=image/jpeg:https://www.shawntellemadison.com/wp-content/uploads/2024/05/swamp-fox-books-logo.jpg
END:VEVENT
END:VCALENDAR