BEGIN:VCALENDAR
VERSION:2.0
PRODID:-//Shawntelle Madison - ECPv6.15.17//NONSGML v1.0//EN
CALSCALE:GREGORIAN
METHOD:PUBLISH
X-WR-CALNAME:Shawntelle Madison
X-ORIGINAL-URL:https://www.shawntellemadison.com
X-WR-CALDESC:Events for Shawntelle Madison
REFRESH-INTERVAL;VALUE=DURATION:PT1H
X-Robots-Tag:noindex
X-PUBLISHED-TTL:PT1H
BEGIN:VTIMEZONE
TZID:America/Chicago
BEGIN:DAYLIGHT
TZOFFSETFROM:-0600
TZOFFSETTO:-0500
TZNAME:CDT
DTSTART:20230312T080000
END:DAYLIGHT
BEGIN:STANDARD
TZOFFSETFROM:-0500
TZOFFSETTO:-0600
TZNAME:CST
DTSTART:20231105T070000
END:STANDARD
BEGIN:DAYLIGHT
TZOFFSETFROM:-0600
TZOFFSETTO:-0500
TZNAME:CDT
DTSTART:20240310T080000
END:DAYLIGHT
BEGIN:STANDARD
TZOFFSETFROM:-0500
TZOFFSETTO:-0600
TZNAME:CST
DTSTART:20241103T070000
END:STANDARD
BEGIN:DAYLIGHT
TZOFFSETFROM:-0600
TZOFFSETTO:-0500
TZNAME:CDT
DTSTART:20250309T080000
END:DAYLIGHT
BEGIN:STANDARD
TZOFFSETFROM:-0500
TZOFFSETTO:-0600
TZNAME:CST
DTSTART:20251102T070000
END:STANDARD
END:VTIMEZONE
BEGIN:VEVENT
DTSTART;TZID=America/Chicago:20240222T080000
DTEND;TZID=America/Chicago:20240225T170000
DTSTAMP:20260425T053732
CREATED:20230606T173257Z
LAST-MODIFIED:20230606T173257Z
UID:6309-1708588800-1708880400@www.shawntellemadison.com
SUMMARY:2024 Coastal Magic Convention
DESCRIPTION:Join me for the 2024 Coastal Magic Convention. I’ll be one of the authors on fun panels\, doing meet & greets\, and hanging with fantastic readers like YOU! The 2024 theme is “Book Besties Weekend”\, so grab a friend and head to the beach with us! Coastal Magic will have something for just about every reader to get excited about. \n \nAll on-site programming is included in your weekend registration (including a chance to have lunch with me!)\nYou can get involved between now and February in their Facebook Authors & Attendee group: http://facebook.com/groups/CMConAuthorsandAttendees\, and\nReading Challenge group:  http://facebook.com/groups/CMConReadingChallenge. \nI’d love to meet you next February (the 22nd – 25th) in Daytona Beach! More information about the rest of the Featured Author lineup and how to register is on the Coastal Magic website (http://CoastalMagicConvention.com).
URL:https://www.shawntellemadison.com/event/2024-coastal-magic-convention/
CATEGORIES:Booksigning,Convention
ATTACH;FMTTYPE=image/jpeg:https://www.shawntellemadison.com/wp-content/uploads/2023/06/CMCon24_5X3_HorizontalPromo1.jpg
END:VEVENT
END:VCALENDAR