BEGIN:VCALENDAR
VERSION:2.0
PRODID:-//Shawntelle Madison - ECPv6.15.17//NONSGML v1.0//EN
CALSCALE:GREGORIAN
METHOD:PUBLISH
X-WR-CALNAME:Shawntelle Madison
X-ORIGINAL-URL:https://www.shawntellemadison.com
X-WR-CALDESC:Events for Shawntelle Madison
REFRESH-INTERVAL;VALUE=DURATION:PT1H
X-Robots-Tag:noindex
X-PUBLISHED-TTL:PT1H
BEGIN:VTIMEZONE
TZID:America/Chicago
BEGIN:DAYLIGHT
TZOFFSETFROM:-0600
TZOFFSETTO:-0500
TZNAME:CDT
DTSTART:20220313T080000
END:DAYLIGHT
BEGIN:STANDARD
TZOFFSETFROM:-0500
TZOFFSETTO:-0600
TZNAME:CST
DTSTART:20221106T070000
END:STANDARD
BEGIN:DAYLIGHT
TZOFFSETFROM:-0600
TZOFFSETTO:-0500
TZNAME:CDT
DTSTART:20230312T080000
END:DAYLIGHT
BEGIN:STANDARD
TZOFFSETFROM:-0500
TZOFFSETTO:-0600
TZNAME:CST
DTSTART:20231105T070000
END:STANDARD
BEGIN:DAYLIGHT
TZOFFSETFROM:-0600
TZOFFSETTO:-0500
TZNAME:CDT
DTSTART:20240310T080000
END:DAYLIGHT
BEGIN:STANDARD
TZOFFSETFROM:-0500
TZOFFSETTO:-0600
TZNAME:CST
DTSTART:20241103T070000
END:STANDARD
END:VTIMEZONE
BEGIN:VEVENT
DTSTART;TZID=America/Chicago:20230805T140000
DTEND;TZID=America/Chicago:20230805T160000
DTSTAMP:20260425T141016
CREATED:20230606T174926Z
LAST-MODIFIED:20230606T174926Z
UID:6318-1691244000-1691251200@www.shawntellemadison.com
SUMMARY:Romance GenreCon 2023
DESCRIPTION:Romance GenreCon 2023 will take place August 4-6\, 2023 at Woodneath Library Center and its new auditorium in Kansas City\, MO. Learn more.
URL:https://www.shawntellemadison.com/event/romance-genrecon-2023/
LOCATION:Woodneath Library Center\, 8900 NE Flintlock Rd\, Kansas City\, MO\, 64157\, United States
CATEGORIES:Booksigning
ATTACH;FMTTYPE=image/png:https://www.shawntellemadison.com/wp-content/uploads/2023/02/romancegenrecon.png
END:VEVENT
END:VCALENDAR