BEGIN:VCALENDAR
VERSION:2.0
PRODID:-//Shawntelle Madison - ECPv6.15.17//NONSGML v1.0//EN
CALSCALE:GREGORIAN
METHOD:PUBLISH
X-ORIGINAL-URL:https://www.shawntellemadison.com
X-WR-CALDESC:Events for Shawntelle Madison
REFRESH-INTERVAL;VALUE=DURATION:PT1H
X-Robots-Tag:noindex
X-PUBLISHED-TTL:PT1H
BEGIN:VTIMEZONE
TZID:America/Chicago
BEGIN:DAYLIGHT
TZOFFSETFROM:-0600
TZOFFSETTO:-0500
TZNAME:CDT
DTSTART:20240310T080000
END:DAYLIGHT
BEGIN:STANDARD
TZOFFSETFROM:-0500
TZOFFSETTO:-0600
TZNAME:CST
DTSTART:20241103T070000
END:STANDARD
BEGIN:DAYLIGHT
TZOFFSETFROM:-0600
TZOFFSETTO:-0500
TZNAME:CDT
DTSTART:20250309T080000
END:DAYLIGHT
BEGIN:STANDARD
TZOFFSETFROM:-0500
TZOFFSETTO:-0600
TZNAME:CST
DTSTART:20251102T070000
END:STANDARD
BEGIN:DAYLIGHT
TZOFFSETFROM:-0600
TZOFFSETTO:-0500
TZNAME:CDT
DTSTART:20260308T080000
END:DAYLIGHT
BEGIN:STANDARD
TZOFFSETFROM:-0500
TZOFFSETTO:-0600
TZNAME:CST
DTSTART:20261101T070000
END:STANDARD
END:VTIMEZONE
BEGIN:VEVENT
DTSTART;TZID=America/Chicago:20250320T140000
DTEND;TZID=America/Chicago:20250320T150000
DTSTAMP:20260424T072713
CREATED:20250206T212738Z
LAST-MODIFIED:20250206T213422Z
UID:8178-1742479200-1742482800@www.shawntellemadison.com
SUMMARY:Virginia Festival of the Book 2025
DESCRIPTION:Save the date for the Virginia Festival of the Book. Come see Shawntelle and all the other amazing authors in Charlottesville\, VA on March 20-23rd! Shawntelle is so excited to be a part of the Sunday brunch hosted by Charlottesville Chapter of the Links! More details about that coming soon. \nThe festival will be packed with author conversations\, meet-and-greets\, readings\, and more! \nHere are Shawntelle’s panels. THE FALLEN FRUIT will be available. \nBlack Fantastical with Esme Addison\, P. Djèlí Clark & Shawntelle Madison\nSaturday\, March 22nd at 2:00 PM – 3:00 PM
URL:https://www.shawntellemadison.com/event/virginia-festival-of-the-book-2025/
CATEGORIES:Book Festival,Booksigning
ATTACH;FMTTYPE=image/jpeg:https://www.shawntellemadison.com/wp-content/uploads/2025/02/VirginiaFestival-logo.jpg
END:VEVENT
BEGIN:VEVENT
DTSTART;TZID=America/Chicago:20250329T183000
DTEND;TZID=America/Chicago:20250329T203000
DTSTAMP:20260424T072713
CREATED:20250320T001747Z
LAST-MODIFIED:20250320T001747Z
UID:8193-1743273000-1743280200@www.shawntellemadison.com
SUMMARY:MSBLF - St. Louis Author Showcase
DESCRIPTION:Main Street Books and Third Wheel Brewing present the St. Louis Author Showcase! \nJoin them on Saturday\, March 29th for an afternoon and evening filled with books\, authors\, and readers! The St. Louis Author Showcase features over thirty authors from across the St. Louis area all in one place- Third Wheel Brewing in St. Peters. These authors have written a wide variety of books- from historical fiction to sports non-fiction\, from picture books to YA novels\, from history to middle grade. \nThere will be two different time slots for this event. 21 authors will be appearing from 3pm to 4:30pm\, and another 15 authors will appear from 6:30pm to 8pm. \nTickets to this event are $25 and include a beverage from Third Wheel Brewing (beer\, soda\, or NA beer) and one book from the available selection of your choice\, signed by the author! A $25 ticket admits you to one session. A $40 ticket is available for both sessions\, and includes two books from the available selection of your choice as well as a beverage. \nA portion of the proceeds from each ticket sale will benefit the Main Street Books Literacy Foundation. \nThe Main Street Books Literacy Foundation’s vision is to encourage literacy and an appreciation of books in the children of St. Charles County\, Missouri. Our mission is to provide free books\, opportunities to meet authors\, and literary experiences for students in under-resourced schools in St. Charles County. \nWe can’t wait to see you there! \nAuthors appearing at 3:00pm: \nAnn Hazelwood\, Quilters of the Door\, For the Love of Quilts \nCatherine Bakewell\, Flowerheart\, Where Shadows Bloom \nTori Ross\, Contact High \nMichelle Collins Anderson\, The Flower Sisters \nPat Wahler\, The Rose of Washington Square \nDiane How\, Spark to Flame \nJeremy Pratte\, Five \nNicki Jacobsmeyer\, Kentucky’s Packhorse Librarians \nJan Jacobi\, Lincoln and Douglas \nSarah Angleton\, Paradise on the Pike \nPaige Hulsey\, Little Tree in a Big Forest \nMary Piazza\, Heartsee \nBrad Cook\, Steamtree\, Geartree \nEmma Vogt\, Crime Show \nSherry Cerrano\, Cursed by Athena \nCiara Horton McElroy\, Atomic Family \nKelley Lamm\, Oh Olive! \nS.D. Paine\, Retaliation \nEsme Symes-Smith\, Sir Callie and the Champions of Helston \nRich Gould\, There’s a Snake Down There \nMichelle I. Mason\, My Second Impression of You \nAuthors appearing at 6:30pm: \nValerie Battle Kienzle\, Main Street St. Charles: A Walk Through History \nStephanie Bearce\, The Secret of Moonrise Manor \nDoan Phuong Nguyen\, A Two-Placed Heart \nJessica Mathews\, Lazy Monster Party \nShawntelle Madison\, The Fallen Fruit \nEd Wheatley\, St. Louis Sports Memories \nDan Dillon\, Ultimate St. Louis Trivia Quiz \nStephen Walker\, Lemp: A Haunting History \nBrian Katcher\, Almost Perfect \nScarlett Hoffman\, The Adventures of Wren D’Laire
URL:https://www.shawntellemadison.com/event/msblf-st-louis-author-showcase/
LOCATION:Third Wheel Brewing\, 4008 I-70 North Outer Rd\, St. Peters\, MO\, 63376\, United States
CATEGORIES:Booksigning
ATTACH;FMTTYPE=image/jpeg:https://www.shawntellemadison.com/wp-content/uploads/2025/03/showcaselogo.jpg
END:VEVENT
END:VCALENDAR