BEGIN:VCALENDAR
VERSION:2.0
PRODID:-//Shawntelle Madison - ECPv6.15.17//NONSGML v1.0//EN
CALSCALE:GREGORIAN
METHOD:PUBLISH
X-WR-CALNAME:Shawntelle Madison
X-ORIGINAL-URL:https://www.shawntellemadison.com
X-WR-CALDESC:Events for Shawntelle Madison
REFRESH-INTERVAL;VALUE=DURATION:PT1H
X-Robots-Tag:noindex
X-PUBLISHED-TTL:PT1H
BEGIN:VTIMEZONE
TZID:America/Chicago
BEGIN:DAYLIGHT
TZOFFSETFROM:-0600
TZOFFSETTO:-0500
TZNAME:CDT
DTSTART:20230312T080000
END:DAYLIGHT
BEGIN:STANDARD
TZOFFSETFROM:-0500
TZOFFSETTO:-0600
TZNAME:CST
DTSTART:20231105T070000
END:STANDARD
BEGIN:DAYLIGHT
TZOFFSETFROM:-0600
TZOFFSETTO:-0500
TZNAME:CDT
DTSTART:20240310T080000
END:DAYLIGHT
BEGIN:STANDARD
TZOFFSETFROM:-0500
TZOFFSETTO:-0600
TZNAME:CST
DTSTART:20241103T070000
END:STANDARD
BEGIN:DAYLIGHT
TZOFFSETFROM:-0600
TZOFFSETTO:-0500
TZNAME:CDT
DTSTART:20250309T080000
END:DAYLIGHT
BEGIN:STANDARD
TZOFFSETFROM:-0500
TZOFFSETTO:-0600
TZNAME:CST
DTSTART:20251102T070000
END:STANDARD
END:VTIMEZONE
BEGIN:VEVENT
DTSTART;VALUE=DATE:20240907
DTEND;VALUE=DATE:20240909
DTSTAMP:20260424T183052
CREATED:20240801T190333Z
LAST-MODIFIED:20240822T203029Z
UID:7924-1725667200-1725839999@www.shawntellemadison.com
SUMMARY:Printer's Row Festival 2024
DESCRIPTION:Come to the Printer’s Row Festival in early Septmber! Shawntelle will be in conversation with fellow writer and literary critic Tanya Lane and will dive into the world of “The Fallen Fruit”\, a sweeping multi-generational epic that spans centuries. Don’t miss this opportunity to hear from the author herself about her latest release and the inspirations behind it. \nDetails:\n637 S Dearborn St\nChicago\, IL 60605 \nGrace Place\, First Floor at 3pm CST \nWe can’t wait to see you there! Check out the festival schedule here.
URL:https://www.shawntellemadison.com/event/printers-row-festival-2024/
CATEGORIES:Book Festival,The Fallen Fruit Tour
END:VEVENT
END:VCALENDAR