BEGIN:VCALENDAR
VERSION:2.0
PRODID:-//Shawntelle Madison - ECPv6.15.17//NONSGML v1.0//EN
CALSCALE:GREGORIAN
METHOD:PUBLISH
X-ORIGINAL-URL:https://www.shawntellemadison.com
X-WR-CALDESC:Events for Shawntelle Madison
REFRESH-INTERVAL;VALUE=DURATION:PT1H
X-Robots-Tag:noindex
X-PUBLISHED-TTL:PT1H
BEGIN:VTIMEZONE
TZID:America/Chicago
BEGIN:DAYLIGHT
TZOFFSETFROM:-0600
TZOFFSETTO:-0500
TZNAME:CDT
DTSTART:20240310T080000
END:DAYLIGHT
BEGIN:STANDARD
TZOFFSETFROM:-0500
TZOFFSETTO:-0600
TZNAME:CST
DTSTART:20241103T070000
END:STANDARD
BEGIN:DAYLIGHT
TZOFFSETFROM:-0600
TZOFFSETTO:-0500
TZNAME:CDT
DTSTART:20250309T080000
END:DAYLIGHT
BEGIN:STANDARD
TZOFFSETFROM:-0500
TZOFFSETTO:-0600
TZNAME:CST
DTSTART:20251102T070000
END:STANDARD
BEGIN:DAYLIGHT
TZOFFSETFROM:-0600
TZOFFSETTO:-0500
TZNAME:CDT
DTSTART:20260308T080000
END:DAYLIGHT
BEGIN:STANDARD
TZOFFSETFROM:-0500
TZOFFSETTO:-0600
TZNAME:CST
DTSTART:20261101T070000
END:STANDARD
END:VTIMEZONE
BEGIN:VEVENT
DTSTART;TZID=America/Chicago:20250125T080000
DTEND;TZID=America/Chicago:20250126T170000
DTSTAMP:20260424T092035
CREATED:20241203T164917Z
LAST-MODIFIED:20241213T145007Z
UID:8136-1737792000-1737910800@www.shawntellemadison.com
SUMMARY:Bookmarks Moveable Feast 2025
DESCRIPTION:Join Shawntelle for Bookmarks’ 13th Annual Movable Feast Weekend at the end of January. \nMovable Feast is like speed-dating with authors! Attendees will be seated at tables; each table will hear from ten different authors over the course of the afternoon. Visit bookmarksnc.org to see the full author list. \nIndividual tickets are $60 (plus tax & fees). Table tickets for this event are $480 (plus tax & fees); each table seats eight guests. Each ticket includes event admission\, access to booksigning line\, light snacks\, and beverages. \nBuy a ticket for Saturday. \nBuy a ticket for Sunday.
URL:https://www.shawntellemadison.com/event/bookmarks-moveable-feast-2025/
END:VEVENT
END:VCALENDAR